BEGIN:VCALENDAR
VERSION:2.0
PRODID:-//ChamberMaster//Event Calendar 2.0//EN
METHOD:PUBLISH
X-PUBLISHED-TTL:P3D
REFRESH-INTERVAL:P3D
CALSCALE:GREGORIAN
BEGIN:VEVENT
DTSTART:20141025T000000Z
DTEND:20141025T040000Z
X-MICROSOFT-CDO-ALLDAYEVENT:FALSE
SUMMARY:St. George Book Festival - Literacy Charity Dinner
DESCRIPTION:The night will be one you won't forget as you'll be dinning with twelve best-selling and award-winning authors in and around Utah\, not to mention each ticket you purchase will be donated to two wonderful organizations in our community - The St. George Children's Museum and Washington County School District Foundation! Best-selling Author Dean Hughes has published more than 100 books. Hughes has written fiction as well as non-fiction for all ages: children\, young adult and adults. He is best known for Children of the Promise\, a series of historical novels about World War II. Hughes and his wife Kathy have three children and nine grandchildren. They live in Midway\, Utah. Speaking Topic: What Do We Need Books for Anyway? Authors Who Will Be There: Dan Willis J.R. Johansson Mikey Brooks L.K. Hill Jaclyn Weist Johnny Worthen Dominick Domingo Carolyn Howard-Johnson M. Bridget Cook Teri Harman Joyce Kohler David W. Smith VS Grenier Lin Floyd Dawn McLain
X-ALT-DESC;FMTTYPE=text/html:The night will be one you won&#39\;t forget as you&#39\;ll be dinning with twelve best-selling and award-winning authors in and around Utah\, not to mention each ticket you purchase will be donated to two wonderful organizations in our community - The St. George Children&#39\;s Museum and Washington County School District Foundation! Best-selling Author Dean Hughes has published more than 100 books. Hughes has written fiction as well as non-fiction for all ages: children\, young adult and adults. He is best known for Children of the Promise\, a series of historical novels about World War II. Hughes and his wife Kathy have three children and nine grandchildren. They live in Midway\, Utah. Speaking Topic: What Do We Need Books for Anyway? Authors Who Will Be There: Dan Willis J.R. Johansson Mikey Brooks L.K. Hill Jaclyn Weist Johnny Worthen Dominick Domingo Carolyn Howard-Johnson M. Bridget Cook Teri Harman Joyce Kohler David W. Smith VS Grenier Lin Floyd Dawn McLain
LOCATION:St. George Children's Museum 86 S. Main Street St. George\, UT 84770
UID:e.1117.6144
SEQUENCE:3
DTSTAMP:20260421T030251Z
URL:https://business.stgeorgechamber.com/events/details/st-george-book-festival-literacy-charity-dinner-10-24-2014-6144
END:VEVENT

END:VCALENDAR
