BEGIN:VCALENDAR
VERSION:2.0
PRODID:-//ChamberMaster//Event Calendar 2.0//EN
METHOD:PUBLISH
X-PUBLISHED-TTL:P3D
REFRESH-INTERVAL:P3D
CALSCALE:GREGORIAN
BEGIN:VEVENT
DTSTART:20141025T150000Z
DTEND:20141026T000000Z
X-MICROSOFT-CDO-ALLDAYEVENT:FALSE
SUMMARY:St. George Book Festival - Book Expo Extravanganza!
DESCRIPTION:What to Except: * Readers of all ages and genres will get a chance to meet dozens of prolific authors\, speakers and presenters. * Enjoy performances by some of our local schools and talented children. * Discuss books and ideas\, learn what it takes to be a successful author and much more at this year?s Southern Utah premier book and author event! * There will be drawings for prizes\, no purchase necessary! * There will be book signings by Best & Award-winning authors. * Goodie bag at the registration table for each family or reader - includes free raffle ticket and 10% off coupon for one book purchase at the festival. * Purchase personalized and autographed books for yourself\, your family and your friends! FREE To Everyone! Event Schedule 9am Opening Ceremonies with VS Grenier & David Smith 9:15am Presentation by David Smith ? Perseverance through the eyes of Walt Disney 10am Presentation by Joyce Kohler ? Dancing with Your Inner 11am Youth Poetry Contest Award Ceremony Noon Vista Elementary School Choir & Quartet 1pm Presentation by Terri Harman ? Villains\, Why We Love to Hate Them 2pm Short Story Writing Contest Award Ceremony 3pm Red Mountain Red Rockin' Hawks Choir 4pm Presentation by Lin Floyd - Finding Your Voice Through Writing 5pm Presentation by Kristyn Decker 6pm Book Expo Closing Ceremonies
X-ALT-DESC;FMTTYPE=text/html:What to Except: * Readers of all ages and genres will get a chance to meet dozens of prolific authors\, speakers and presenters. * Enjoy performances by some of our local schools and talented children. * Discuss books and ideas\, learn what it takes to be a successful author and much more at this year?s Southern Utah premier book and author event! * There will be drawings for prizes\, no purchase necessary! * There will be book signings by Best &amp\; Award-winning authors. * Goodie bag at the registration table for each family or reader - includes free raffle ticket and 10% off coupon for one book purchase at the festival. * Purchase personalized and autographed books for yourself\, your family and your friends! FREE To Everyone! Event Schedule 9am Opening Ceremonies with VS Grenier &amp\; David Smith 9:15am Presentation by David Smith ? Perseverance through the eyes of Walt Disney 10am Presentation by Joyce Kohler ? Dancing with Your Inner 11am Youth Poetry Contest Award Ceremony Noon Vista Elementary School Choir &amp\; Quartet 1pm Presentation by Terri Harman ? Villains\, Why We Love to Hate Them 2pm Short Story Writing Contest Award Ceremony 3pm Red Mountain Red Rockin&#39\; Hawks Choir 4pm Presentation by Lin Floyd - Finding Your Voice Through Writing 5pm Presentation by Kristyn Decker 6pm Book Expo Closing Ceremonies
LOCATION:St. George Children's Museum 86 S. Main Street St. George\, UT 84770
UID:e.1117.6145
SEQUENCE:3
DTSTAMP:20260421T043545Z
URL:https://business.stgeorgechamber.com/events/details/st-george-book-festival-book-expo-extravanganza-10-25-2014-6145
END:VEVENT

END:VCALENDAR
