BEGIN:VCALENDAR
VERSION:2.0
PRODID:-//ChamberMaster//Event Calendar 2.0//EN
METHOD:PUBLISH
X-PUBLISHED-TTL:P3D
REFRESH-INTERVAL:P3D
CALSCALE:GREGORIAN
BEGIN:VEVENT
DTSTART:20141020T220000Z
DTEND:20141021T010000Z
X-MICROSOFT-CDO-ALLDAYEVENT:FALSE
SUMMARY:St. George Book Festival - Authorpalooza Festival Kick-Off
DESCRIPTION:St. George Book Festival - Authorpalooza Festival Kick-Off
X-ALT-DESC;FMTTYPE=text/html:St. George Book Festival - Authorpalooza Festival Kick-Off
LOCATION:Barns & Noble at Red Cliffs Mall 1720 Red Cliffs Dr\, St. George UT
UID:e.1117.6141
SEQUENCE:3
DTSTAMP:20260421T030306Z
URL:https://business.stgeorgechamber.com/events/details/st-george-book-festival-authorpalooza-festival-kick-off-10-20-2014-6141
END:VEVENT

END:VCALENDAR
