BEGIN:VCALENDAR
VERSION:2.0
PRODID:-//ChamberMaster//Event Calendar 2.0//EN
METHOD:PUBLISH
X-PUBLISHED-TTL:P3D
REFRESH-INTERVAL:P3D
CALSCALE:GREGORIAN
BEGIN:VEVENT
DTSTART;VALUE=DATE:20141020
DTEND;VALUE=DATE:20141026
TRANSP:TRANSPARENT
X-MICROSOFT-CDO-ALLDAYEVENT:TRUE
SUMMARY:St. George Book Festival
DESCRIPTION:Open to the Public (FREE) Learn\, Discover and Journey through the World of Books! Welcome to the St. George Book Festival. This annual FREE festival is the Utah Humanities Council?s gift to the community of Washington County\, allowing us to explore all sorts of ideas by interacting with great writers. This year\, there are 20 locations all over the state of Utah hosting over 150 book festival activities throughout October\, which is National Book Month and the 17th annual Utah Humanities Book Festival. Contact: VS Grenier vsgrenier@gmail.com Website: http://www.stgeorgebookfestival.org/ Facebook: https://www.facebook.com/St.GeorgeBookfestival Phone: 435-313-0956
X-ALT-DESC;FMTTYPE=text/html:Open to the Public (FREE) Learn\, Discover and Journey through the World of Books! Welcome to the St. George Book Festival. This annual FREE festival is the Utah Humanities Council?s gift to the community of Washington County\, allowing us to explore all sorts of ideas by interacting with great writers. This year\, there are 20 locations all over the state of Utah hosting over 150 book festival activities throughout October\, which is National Book Month and the 17th annual Utah Humanities Book Festival. Contact: VS Grenier vsgrenier@gmail.com Website: http://www.stgeorgebookfestival.org/ Facebook: https://www.facebook.com/St.GeorgeBookfestival Phone: 435-313-0956
LOCATION:Over 20 locations all over the state of Utah.
UID:e.1117.6142
SEQUENCE:3
DTSTAMP:20260421T030001Z
URL:https://business.stgeorgechamber.com/events/details/st-george-book-festival-10-20-2014-6142
END:VEVENT

END:VCALENDAR
