BEGIN:VCALENDAR
VERSION:2.0
PRODID:-//ChamberMaster//Event Calendar 2.0//EN
METHOD:PUBLISH
X-PUBLISHED-TTL:P3D
REFRESH-INTERVAL:P3D
CALSCALE:GREGORIAN
BEGIN:VEVENT
DTSTART:20140214T170000Z
DTEND:20140224T020000Z
X-MICROSOFT-CDO-ALLDAYEVENT:FALSE
SUMMARY:St. George Area Parade of Homes
DESCRIPTION:28 Doors\, 10 Days\, One Incredible Experience. The 24th Annual St. George Area Parade of Homes will feature 28 unique and state-of-the-art homes over 10 days making for one incredible experience.  Homes are located in St. George\, Washington\, Hurricane\, Santa Clara\, and Ivins.  Tickets will be available for sale beginning February 13th at 5 pm at Lin's Markets and the Red Cliffs Mall. Homes are open daily from 10 am   7 pm\, closes at 5 pm on February 23rd. Make plans to attend this year's Parade of Homes!
X-ALT-DESC;FMTTYPE=text/html:28 Doors\, 10 Days\, One Incredible Experience. The 24th Annual St. George Area Parade of Homes will feature 28 unique and state-of-the-art homes over 10 days making for one incredible experience. &nbsp\;Homes are located in St. George\, Washington\, Hurricane\, Santa Clara\, and Ivins. &nbsp\;Tickets will be available for sale beginning February 13th at 5 pm at Lin&rsquo\;s Markets and the Red Cliffs Mall. Homes are open daily from 10 am &ndash\; 7 pm\, closes at 5 pm on February 23rd. Make plans to attend this year&rsquo\;s Parade of Homes!
LOCATION:Throughout Washington County
UID:e.1117.5018
SEQUENCE:3
DTSTAMP:20260421T142711Z
URL:https://business.stgeorgechamber.com/events/details/st-george-area-parade-of-homes-02-14-2014-5018
END:VEVENT

END:VCALENDAR
