BEGIN:VCALENDAR
VERSION:2.0
PRODID:-//ChamberMaster//Event Calendar 2.0//EN
METHOD:PUBLISH
X-PUBLISHED-TTL:P3D
REFRESH-INTERVAL:P3D
CALSCALE:GREGORIAN
BEGIN:VEVENT
DTSTART:20150213T170000Z
DTEND:20150223T020000Z
X-MICROSOFT-CDO-ALLDAYEVENT:FALSE
SUMMARY:St. George Area Parade of Homes
DESCRIPTION:The 2015 St. George Area Parade of Homes\, February 13   22\, 2015 will be an incredible experience. We are celebrating 25 years! "Frame Your Future" at the 2015 St. George Area Parade of Homes. Inside a picture frame\, you will find the perfect home you've always wanted. Decor that you've looked for all your life but have never been able to find. A floor plan that matches your exact wishes complete with features that make life wonderful. The 2015 St. George Area Parade of Homes offers just this. Frame Your Future by visiting 28  homes under the sun and blue sky of St. George\, Utah. Frame a future full of ideas\, innovations\, floor plans and homes that turn your dreams into reality.
X-ALT-DESC;FMTTYPE=text/html:<span style="font-size:14px\;"><span style="font-family:arial\;">The 2015 St. George Area Parade of Homes\, February 13 &ndash\; 22\, 2015 will be an incredible experience. We are celebrating 25 years! &rdquo\;Frame Your Future&rdquo\; at the 2015 St. George Area Parade of Homes. Inside a picture frame\, you will find the perfect home you&rsquo\;ve always wanted. Decor that you&rsquo\;ve looked for all your life but have never been able to find. A floor plan that matches your exact wishes complete with features that make life wonderful. The 2015 St. George Area Parade of Homes offers just this. Frame Your Future by visiting 28&nbsp\; homes under the sun and blue sky of St. George\, Utah. Frame a future full of ideas\, innovations\, floor plans and homes that turn your dreams into reality.</span></span>
LOCATION:Throughout Washington County
UID:e.1117.6254
SEQUENCE:3
DTSTAMP:20260420T205307Z
URL:https://business.stgeorgechamber.com/events/details/st-george-area-parade-of-homes-02-13-2015-6254
END:VEVENT

END:VCALENDAR
