BEGIN:VCALENDAR
VERSION:2.0
PRODID:-//ChamberMaster//Event Calendar 2.0//EN
METHOD:PUBLISH
X-PUBLISHED-TTL:P3D
REFRESH-INTERVAL:P3D
CALSCALE:GREGORIAN
BEGIN:VEVENT
DTSTART:20140328T160000Z
DTEND:20140330T010000Z
X-MICROSOFT-CDO-ALLDAYEVENT:FALSE
SUMMARY:Spring Home & Garden Expo
DESCRIPTION:Welcome To The St. George Spring Home & Garden Expo! The St. George Spring Home & Garden Expo is the longest running expo in St. George.  Featuring a collaboration of products and services for inside and outside the home. Are you looking for ideas for your upcoming home improvement project? Do you want to find an experienced contractor that specializes in the services you need?  We?ve got it!! The Spring Home & Garden Expo brings together the best of the best under one roof for two days. From windows to flooring and everything in between.  Landscaping-Awnings-Patio Furniture-Spas- Swimming Pools- Home Improvement Stores- Furniture-Planting- Home Care- Home Maintenance-Roofing- Solar Energy-Sheds-Outdoor Play Equipment-Concrete-Planting Products-Building materials- Etc? Bring the kids to enjoy our kids club on Saturday.
X-ALT-DESC;FMTTYPE=text/html:Welcome To The St. George Spring Home &amp\; Garden Expo! The St. George Spring Home &amp\; Garden Expo is the longest running expo in St. George. &nbsp\;Featuring a collaboration of products and services for inside and outside the home. Are you looking for ideas for your upcoming home improvement project? Do you want to find an experienced contractor that specializes in the services you need? &nbsp\;We?ve got it!! The Spring Home &amp\; Garden Expo brings together the best of the best under one roof for two days. From windows to flooring and everything in between. &nbsp\;Landscaping-Awnings-Patio Furniture-Spas- Swimming Pools- Home Improvement Stores- Furniture-Planting- Home Care- Home Maintenance-Roofing- Solar Energy-Sheds-Outdoor Play Equipment-Concrete-Planting Products-Building materials- Etc? Bring the kids to enjoy our kids club on Saturday.
LOCATION:Dixie Center
UID:e.1117.5061
SEQUENCE:3
DTSTAMP:20260421T141811Z
URL:https://business.stgeorgechamber.com/events/details/spring-home-garden-expo-03-28-2014-5061
END:VEVENT

END:VCALENDAR
