BEGIN:VCALENDAR
VERSION:2.0
PRODID:-//ChamberMaster//Event Calendar 2.0//EN
METHOD:PUBLISH
X-PUBLISHED-TTL:P3D
REFRESH-INTERVAL:P3D
CALSCALE:GREGORIAN
BEGIN:VEVENT
DTSTART:20130413T010000Z
DTEND:20130413T030000Z
X-MICROSOFT-CDO-ALLDAYEVENT:FALSE
SUMMARY:Spring Chamber Music Benefit Concert
DESCRIPTION:The evening's music will feature Beethoven Piano Quartet Opus 16\, as well as solo pieces by the above artists.  100% of all ticket sales will go directly to the Tuacahn Summer Arts Institute Scholarship Fund\, benefitting talented students in need from the region and are 100% tax deductible.  This concert is not affiliated with Kayenta Homes\, Development or Arts Foundation.\n\n	\n\n	Mykola Suk\, Piano\n\n	UNLV\, World Renowned Artist\n\n	Alexander Treger\, Violin\n\n	Former Los Angeles Philharmonic Concertmaster\n\n	Jason Bonham\, Viola\n\n	Principal Viola Las Vegas Philharmonic\n\n	Andrew Smith\, Cello\n\n	Principal Cello Las Vegas Philharmonic
X-ALT-DESC;FMTTYPE=text/html:<p>\n	<span style="font-size:14px\;"><span style="font-family: arial\;"><span style="color: rgb(96\, 94\, 108)\;">The evening&#39\;s music will feature Beethoven Piano Quartet Opus 16\, as well as solo pieces by the above artists. &nbsp\;100% of all ticket sales will go directly to the&nbsp\;Tuacahn&nbsp\;Summer Arts Institute Scholarship Fund\,&nbsp\;benefitting&nbsp\;talented students in need from the region and are 100% tax deductible.</span>&nbsp\;&nbsp\;<span style="color: rgb(96\, 94\, 108)\;">This concert is not affiliated with&nbsp\;Kayenta&nbsp\;Homes\, Development or Arts Foundation.</span><br />\n	<br />\n	<span style="color: rgb(96\, 94\, 108)\;">Mykola Suk\, Piano</span><br />\n	<span style="color: rgb(96\, 94\, 108)\;">UNLV\, World Renowned Artist</span><br />\n	<span style="color: rgb(96\, 94\, 108)\;">Alexander Treger\, Violin</span><br />\n	<span style="color: rgb(96\, 94\, 108)\;">Former Los Angeles Philharmonic Concertmaster</span><br />\n	<span style="color: rgb(96\, 94\, 108)\;">Jason Bonham\, Viola</span><br />\n	<span style="color: rgb(96\, 94\, 108)\;">Principal Viola Las Vegas Philharmonic</span><br />\n	<span style="color: rgb(96\, 94\, 108)\;">Andrew Smith\, Cello</span><br />\n	<span style="color: rgb(96\, 94\, 108)\;">Principal Cello Las Vegas Philharmonic&nbsp\;</span></span></span></p>\n
LOCATION:Spring Chamber Music Benefit Concert in the Kayenta Community for the Tuacahn Summer Arts Institute Scholarship Fund. Home of David and Carol Hansen
UID:e.1117.2928
SEQUENCE:3
DTSTAMP:20260422T061649Z
URL:https://business.stgeorgechamber.com/events/details/spring-chamber-music-benefit-concert-04-12-2013-2928
END:VEVENT

END:VCALENDAR
