BEGIN:VCALENDAR
VERSION:2.0
PRODID:-//ChamberMaster//Event Calendar 2.0//EN
METHOD:PUBLISH
X-PUBLISHED-TTL:P3D
REFRESH-INTERVAL:P3D
CALSCALE:GREGORIAN
BEGIN:VEVENT
DTSTART;VALUE=DATE:20151023
DTEND;VALUE=DATE:20151025
TRANSP:TRANSPARENT
X-MICROSOFT-CDO-ALLDAYEVENT:TRUE
SUMMARY:Spooky Town Fair
DESCRIPTION:As a vendor/business\, this outdoor business expo is guaranteed to give you greater exposure to the public and more opportunities to showcase your business to thousands of people during the two day event.\n\n\n\nWith nearly 100 different business vendors\, a wide variety of children?s games and attractions\, live entertainment\, and a fun festival atmosphere\, we will bring the people to you and your business.   \n\n\n\nBring the largest family friendly Halloween Festival in Southern Utah. Carnival games\, bounce houses\, vendors\, food booths\, continuous entertainment will keep you there all day. This is a fundraiser for Washington County School District Foundation. All profits go to the local WCSD schools.
X-ALT-DESC;FMTTYPE=text/html:<span style="font-family:arial\,sans-serif\;">As a vendor/business\, this outdoor business expo is guaranteed to give you greater exposure to the public and more opportunities to showcase your business to thousands of people during the two day event.<br />\n<br />\nWith nearly 100 different business vendors\, a wide variety of children?s games and attractions\, live entertainment\, and a fun festival atmosphere\, we will bring the people to you and your business.&nbsp\; &nbsp\;</span><br />\n<br />\nBring the largest family friendly Halloween Festival in Southern Utah. Carnival games\, bounce houses\, vendors\, food booths\, continuous entertainment will keep you there all day. This is a fundraiser for Washington County School District Foundation. All profits go to the local&nbsp\;WCSD&nbsp\;schools.&#8203\;
LOCATION:Town Square St. George\, Utah
UID:e.1117.7039
SEQUENCE:3
DTSTAMP:20260420T064839Z
URL:https://business.stgeorgechamber.com/events/details/spooky-town-fair-10-23-2015-7039
END:VEVENT

END:VCALENDAR
