BEGIN:VCALENDAR
VERSION:2.0
PRODID:-//ChamberMaster//Event Calendar 2.0//EN
METHOD:PUBLISH
X-PUBLISHED-TTL:P3D
REFRESH-INTERVAL:P3D
CALSCALE:GREGORIAN
BEGIN:VEVENT
DTSTART:20131028T230000Z
DTEND:20131029T020000Z
X-MICROSOFT-CDO-ALLDAYEVENT:FALSE
SUMMARY:Spooktacular Carnival
DESCRIPTION:Join us for our annual Spooktacular Carnival a night filled with treats\, games\, crafts\, fun booths\, and other spooky surprises!
X-ALT-DESC;FMTTYPE=text/html:<span style="color: rgb(0\, 0\, 0)\; font-family: Helvetica\, Arial\, sans-serif\; font-size: small\;">Join us for our annual </span>Spooktacular<span style="color: rgb(0\, 0\, 0)\; font-family: Helvetica\, Arial\, sans-serif\; font-size: small\;"> Carnival a night filled with treats\, games\, crafts\, fun booths\, and other spooky surprises!&nbsp\;</span><br />\n
LOCATION:350 N. Community Center Drive Washington\, UT 84780
UID:e.1117.4263
SEQUENCE:3
DTSTAMP:20260421T213145Z
URL:https://business.stgeorgechamber.com/events/details/spooktacular-carnival-10-28-2013-4263
END:VEVENT

END:VCALENDAR
