BEGIN:VCALENDAR
VERSION:2.0
PRODID:-//ChamberMaster//Event Calendar 2.0//EN
METHOD:PUBLISH
X-PUBLISHED-TTL:P3D
REFRESH-INTERVAL:P3D
CALSCALE:GREGORIAN
BEGIN:VEVENT
DTSTART:20150415T013000Z
DTEND:20150415T040000Z
X-MICROSOFT-CDO-ALLDAYEVENT:FALSE
SUMMARY:Spiritus Dictum-Magick in Your Mind
DESCRIPTION:Art In The Garden-The DiFiore Center Art in the Garden "Everybody Has a Story". Dancers represent themselves and after in-depth interview and improvisation are interpreted by artist Rob J Wilson and composer Mary Lou Prince. The drawings will be set on easels for the performance. Each dancer will bring the paintings to life. Music will be played live. This exciting artistic presentation will be held April 24\, 2015 and April 25\, 2015 at 7pm at the Roene B. DiFiore Center for Arts and Education. Dancers Performing Are: Lexie Corbett\, Summer Belnap Robertson\, Jennie Jones\, Bailey Johnson\, J Daniel Woodstock\, Caye Clark\, Marco Perez\, Bethany Gee and Katherine Call
X-ALT-DESC;FMTTYPE=text/html:Art In The Garden-The DiFiore Center Art in the Garden &quot\;Everybody Has a Story&quot\;. Dancers represent themselves and after in-depth interview and improvisation are interpreted by artist Rob J Wilson and composer Mary Lou Prince. The drawings will be set on easels for the performance. Each dancer will bring the paintings to life. Music will be played live. This exciting artistic presentation will be held April 24\, 2015 and April 25\, 2015 at 7pm at the Roene B. DiFiore Center for Arts and Education. Dancers Performing Are: Lexie Corbett\, Summer Belnap Robertson\, Jennie Jones\, Bailey Johnson\, J Daniel Woodstock\, Caye Clark\, Marco Perez\, Bethany Gee and Katherine Call
LOCATION:The DiFiore Center
UID:e.1117.6358
SEQUENCE:3
DTSTAMP:20260420T173405Z
URL:https://business.stgeorgechamber.com/events/details/spiritus-dictum-magick-in-your-mind-04-14-2015-6358
END:VEVENT

END:VCALENDAR
