BEGIN:VCALENDAR
VERSION:2.0
PRODID:-//ChamberMaster//Event Calendar 2.0//EN
METHOD:PUBLISH
X-PUBLISHED-TTL:P3D
REFRESH-INTERVAL:P3D
CALSCALE:GREGORIAN
BEGIN:VEVENT
DTSTART:20150214T023000Z
DTEND:20150214T030000Z
X-MICROSOFT-CDO-ALLDAYEVENT:FALSE
SUMMARY:Spiritus Dictum
DESCRIPTION:Join us for an incredible theatrical experience that will transform you into another time and place. Watch Peter McMillan and relive the golden age of s ance and mysticism. Spirits Dictum- Magic in Your Mind. Seating is limited to 12. Ages 18 and over. For information and reservations please go to www.difiorecenter.org or call 435-673-4206. Theater dates:\, February 13\, 2015\, March 13\, 2015 and April 14\, 2015.
X-ALT-DESC;FMTTYPE=text/html:Join us for an incredible theatrical experience that will transform you into another time and place. Watch Peter McMillan and relive the golden age of s&eacute\;ance and mysticism. Spirits Dictum- Magic in Your Mind. Seating is limited to 12. Ages 18 and over. For information and reservations please go to www.difiorecenter.org or call 435-673-4206. Theater dates:\, February 13\, 2015\, March 13\, 2015 and April 14\, 2015.
LOCATION:The DiFiore Center
UID:e.1117.6280
SEQUENCE:3
DTSTAMP:20260420T205158Z
URL:https://business.stgeorgechamber.com/events/details/spiritus-dictum-02-13-2015-6280
END:VEVENT

END:VCALENDAR
