BEGIN:VCALENDAR
VERSION:2.0
PRODID:-//ChamberMaster//Event Calendar 2.0//EN
METHOD:PUBLISH
X-PUBLISHED-TTL:P3D
REFRESH-INTERVAL:P3D
CALSCALE:GREGORIAN
BEGIN:VEVENT
DTSTART:20141002T230000Z
DTEND:20141003T010000Z
X-MICROSOFT-CDO-ALLDAYEVENT:FALSE
SUMMARY:Spilsbury Mortuary's 75th Anniversary Open House
DESCRIPTION:Spilsbury Mortuary has been serving the Southern Utah area since 1939. The community is invited to help celebrate 75 years at an open house. Entertainment\, Light Refreshments and Drawings.
X-ALT-DESC;FMTTYPE=text/html:Spilsbury Mortuary has been serving the Southern Utah area since 1939. The community is invited to help celebrate 75 years at an open house. Entertainment\, Light Refreshments and Drawings.
LOCATION:Spilsbury Mortuary 110 S. Bluff Street St. George\, UT 84770
UID:e.1117.6136
SEQUENCE:3
DTSTAMP:20260421T030049Z
URL:https://business.stgeorgechamber.com/events/details/spilsbury-mortuary-s-75th-anniversary-open-house-10-02-2014-6136
END:VEVENT

END:VCALENDAR
