BEGIN:VCALENDAR
VERSION:2.0
PRODID:-//ChamberMaster//Event Calendar 2.0//EN
METHOD:PUBLISH
X-PUBLISHED-TTL:P3D
REFRESH-INTERVAL:P3D
CALSCALE:GREGORIAN
BEGIN:VEVENT
DTSTART:20150115T000000Z
DTEND:20150325T234500Z
X-MICROSOFT-CDO-ALLDAYEVENT:FALSE
SUMMARY:Spanish Ballet/ Flamenco Dance
DESCRIPTION:Flamenco is an exciting and dynamic dance form from southern Spain featuring lyrical hand and arm movements and sharp percussive footwork. We will learn the correct body posture\, wrist and arm positions\, footwork\, hand clapping patterns\, and how to follow the music. Please bring supportive shoes with a chunky heel. Both boys & girls are welcome.
X-ALT-DESC;FMTTYPE=text/html:Flamenco is an exciting and dynamic dance form from southern Spain featuring lyrical hand and arm movements and sharp percussive footwork. We will learn the correct body posture\, wrist and arm positions\, footwork\, hand clapping patterns\, and how to follow the music. Please bring supportive shoes with a chunky heel. Both boys &amp\; girls are welcome.
LOCATION:The DiFiore Center 307 North Main Street St George\, Utah 84770
UID:e.1117.6260
SEQUENCE:3
DTSTAMP:20260420T203750Z
URL:https://business.stgeorgechamber.com/events/details/spanish-ballet-flamenco-dance-01-14-2015-6260
END:VEVENT

END:VCALENDAR
