BEGIN:VCALENDAR
VERSION:2.0
PRODID:-//ChamberMaster//Event Calendar 2.0//EN
METHOD:PUBLISH
X-PUBLISHED-TTL:P3D
REFRESH-INTERVAL:P3D
CALSCALE:GREGORIAN
BEGIN:VEVENT
DTSTART:20150501T160000Z
DTEND:20150502T000000Z
X-MICROSOFT-CDO-ALLDAYEVENT:FALSE
SUMMARY:SouthWest Vision Sunwear Expo
DESCRIPTION:Savings up to 80% off!  One day only!  Over 500 styles available including:  Fendi\, Kate Spade\, Tommy Hilfiger and more!
X-ALT-DESC;FMTTYPE=text/html:Savings up to 80% off! &nbsp\;One day only! &nbsp\;Over 500 styles&nbsp\;available including: &nbsp\;Fendi\, Kate Spade\, Tommy Hilfiger and more!
LOCATION:SouthWest Vision 965 E. 700 S. Ste. 100 St. George\, UT
UID:e.1117.6402
SEQUENCE:3
DTSTAMP:20260420T155322Z
URL:https://business.stgeorgechamber.com/events/details/southwest-vision-sunwear-expo-05-01-2015-6402
END:VEVENT

END:VCALENDAR
