BEGIN:VCALENDAR
VERSION:2.0
PRODID:-//ChamberMaster//Event Calendar 2.0//EN
METHOD:PUBLISH
X-PUBLISHED-TTL:P3D
REFRESH-INTERVAL:P3D
CALSCALE:GREGORIAN
BEGIN:VEVENT
DTSTART:20131026T013000Z
DTEND:20131026T030000Z
X-MICROSOFT-CDO-ALLDAYEVENT:FALSE
SUMMARY:Southwest Symphony "Spooktacular" Concert
DESCRIPTION:A musical treasure for all ages\, this delightful concert offers tantalizing music of the season and features a traditional performance by miniature musicians.  Remember to wear your favorite costume.
X-ALT-DESC;FMTTYPE=text/html:A musical treasure for all ages\, this delightful concert offers tantalizing music of the season and features a traditional performance by miniature musicians. &nbsp\;Remember to wear your favorite costume.
LOCATION:Cox Performing Arts Center Dixie State University Campus 325 South 700 East St. George\, UT 84720
UID:e.1117.4278
SEQUENCE:3
DTSTAMP:20260421T213649Z
URL:https://business.stgeorgechamber.com/events/details/southwest-symphony-spooktacular-concert-10-25-2013-4278
END:VEVENT

END:VCALENDAR
