BEGIN:VCALENDAR
VERSION:2.0
PRODID:-//ChamberMaster//Event Calendar 2.0//EN
METHOD:PUBLISH
X-PUBLISHED-TTL:P3D
REFRESH-INTERVAL:P3D
CALSCALE:GREGORIAN
BEGIN:VEVENT
DTSTART:20140510T013000Z
DTEND:20140510T030000Z
X-MICROSOFT-CDO-ALLDAYEVENT:FALSE
SUMMARY:Southwest Symphony "Side Street Strutters"
DESCRIPTION:Experience the charm of New Orleans Jazz and the vibrancy of Big Band Swing.  The Side Street Strutters have been entertaining audiences in all fifty states\, Canada\, Mexico and Europe since 1983. That's many years of smiles!
X-ALT-DESC;FMTTYPE=text/html:<span style="color: rgb(102\, 102\, 102)\; font-family: 'Myriad Pro'\, Arial\, Helvetica\, sans-serif\; font-size: 14px\; line-height: 21px\;">Experience the charm of New Orleans Jazz and the vibrancy of Big Band Swing. &nbsp\;The Side Street Strutters have been entertaining audiences in all fifty states\, Canada\, Mexico and Europe since 1983. That&#39\;s many years of smiles!</span>
LOCATION:Dixie State University Cox Auditorium 325 S. 700 E.
UID:e.1117.5126
SEQUENCE:3
DTSTAMP:20260421T095930Z
URL:https://business.stgeorgechamber.com/events/details/southwest-symphony-side-street-strutters-05-09-2014-5126
END:VEVENT

END:VCALENDAR
