BEGIN:VCALENDAR
VERSION:2.0
PRODID:-//ChamberMaster//Event Calendar 2.0//EN
METHOD:PUBLISH
X-PUBLISHED-TTL:P3D
REFRESH-INTERVAL:P3D
CALSCALE:GREGORIAN
BEGIN:VEVENT
DTSTART:20140329T013000Z
DTEND:20140329T030000Z
X-MICROSOFT-CDO-ALLDAYEVENT:FALSE
SUMMARY:Southwest Symphony Orchestra "Youth Concerto Classic"
DESCRIPTION:The 2014 Youth Concerto Classic continues the tradition of showcasing first-rate young musicians from our area.  These dedicated delightful prodigies demonstrate music education at its finest.
X-ALT-DESC;FMTTYPE=text/html:<div class="paragraph"><span style="line-height: 1.6\;">The 2014 Youth Concerto Classic continues the tradition of showcasing first-rate young musicians from our area. &nbsp\;These dedicated delightful prodigies demonstrate music education at its finest.</span></div>\n\n<div>\n<div style="height: 20px\; overflow: hidden\; width: 100%\;"><br />\n&nbsp\;</div>\n</div>\n
LOCATION:Cox Performing Arts Center Dixie State University Campus 325 South 700 East
UID:e.1117.5091
SEQUENCE:3
DTSTAMP:20260421T143006Z
URL:https://business.stgeorgechamber.com/events/details/southwest-symphony-orchestra-youth-concerto-classic-03-28-2014-5091
END:VEVENT

END:VCALENDAR
