BEGIN:VCALENDAR
VERSION:2.0
PRODID:-//ChamberMaster//Event Calendar 2.0//EN
METHOD:PUBLISH
X-PUBLISHED-TTL:P3D
REFRESH-INTERVAL:P3D
CALSCALE:GREGORIAN
BEGIN:VEVENT
DTSTART:20160514T013000Z
DTEND:20160514T030000Z
X-MICROSOFT-CDO-ALLDAYEVENT:FALSE
SUMMARY:Southwest Symphony Orchestra Spring Concert
DESCRIPTION:"A Treasure Chest of Pops" featuring Sam Kreitzer in George Gershwin's Rhapsody in Blue.  Conducted by Maestro Gary Caldwell.
X-ALT-DESC;FMTTYPE=text/html:&quot\;A Treasure Chest of Pops&quot\; featuring Sam Kreitzer in George Gershwin&#39\;s&nbsp\;<em>Rhapsody in Blue.</em>&nbsp\;&nbsp\;Conducted by Maestro Gary Caldwell.
LOCATION:Cox Performing Arts Center
UID:e.1117.8672
SEQUENCE:3
DTSTAMP:20260419T183255Z
URL:https://business.stgeorgechamber.com/events/details/southwest-symphony-orchestra-spring-concert-05-13-2016-8672
END:VEVENT

END:VCALENDAR
