BEGIN:VCALENDAR
VERSION:2.0
PRODID:-//ChamberMaster//Event Calendar 2.0//EN
METHOD:PUBLISH
X-PUBLISHED-TTL:P3D
REFRESH-INTERVAL:P3D
CALSCALE:GREGORIAN
BEGIN:VEVENT
DTSTART:20160227T023000Z
DTEND:20160227T040000Z
X-MICROSOFT-CDO-ALLDAYEVENT:FALSE
SUMMARY:Southwest Symphony Orchestra presents Lynn Vartan
DESCRIPTION:The Canyons Concerto is a four-movement percussion concerto featuring an array of instruments including the hang drum.  Written by Keith Bradshaw for percussionist Lynn Vartan\, an international performer and educator.  This work commemorates the centennial of the National Park Service.  This concert also features Dvorak's "New World Symphony."
X-ALT-DESC;FMTTYPE=text/html:<div class="paragraph"><span style="color:#000000\;"><span style="font-size:14px\;"><span style="font-family:arial\;">The Canyons Concerto is a four-movement percussion concerto featuring an array of instruments including the hang drum.&nbsp\; Written by Keith Bradshaw for percussionist Lynn Vartan\, an international performer and educator.&nbsp\; This work commemorates the centennial of the National Park Service.&nbsp\; This concert also features Dvorak&#39\;s &quot\;New World Symphony.&quot\;</span></span></span></div>\n
LOCATION:Cox Performing Arts Center Dixie State University Campus 325 South 700 East
UID:e.1117.8447
SEQUENCE:3
DTSTAMP:20260420T013142Z
URL:https://business.stgeorgechamber.com/events/details/southwest-symphony-orchestra-presents-lynn-vartan-02-26-2016-8447
END:VEVENT

END:VCALENDAR
