BEGIN:VCALENDAR
VERSION:2.0
PRODID:-//ChamberMaster//Event Calendar 2.0//EN
METHOD:PUBLISH
X-PUBLISHED-TTL:P3D
REFRESH-INTERVAL:P3D
CALSCALE:GREGORIAN
BEGIN:VEVENT
DTSTART:20140518T020000Z
DTEND:20140518T040000Z
X-MICROSOFT-CDO-ALLDAYEVENT:FALSE
SUMMARY:Southwest Symphony Orchestra "Patriotic Pops Under the Stars"
DESCRIPTION:A tribute to our veterans on Armed Forces Day.  The evening begins at 6:00 PM with a chuck wagon dinner provided by the Fawson family as a fundraiser for the Symphony.  This is followed by a festival of patriotic musical favorites.
X-ALT-DESC;FMTTYPE=text/html:<span style="color: rgb(102\, 102\, 102)\; font-family: 'Myriad Pro'\, Arial\, Helvetica\, sans-serif\; font-size: 14px\; line-height: 21px\;">A tribute to our veterans on Armed Forces Day. &nbsp\;The evening begins at 6:00 PM with a chuck wagon dinner provided by the Fawson family as a fundraiser for the Symphony. &nbsp\;This is followed by a festival of patriotic musical favorites.</span>
LOCATION:O.C. Tanner Pavilion in Springdale\, Utah
UID:e.1117.5127
SEQUENCE:3
DTSTAMP:20260421T100529Z
URL:https://business.stgeorgechamber.com/events/details/southwest-symphony-orchestra-patriotic-pops-under-the-stars-05-17-2014-5127
END:VEVENT

END:VCALENDAR
