BEGIN:VCALENDAR
VERSION:2.0
PRODID:-//ChamberMaster//Event Calendar 2.0//EN
METHOD:PUBLISH
X-PUBLISHED-TTL:P3D
REFRESH-INTERVAL:P3D
CALSCALE:GREGORIAN
BEGIN:VEVENT
DTSTART:20131102T013000Z
DTEND:20131102T030000Z
X-MICROSOFT-CDO-ALLDAYEVENT:FALSE
SUMMARY:Southwest Symphony Orchestra "One Small Step" Concert
DESCRIPTION:A musical history of space flight...an extraordinary adventure to a place where the past and the future collide.  Set to the music of Aaron Copeland and presented in high definition video programming.
X-ALT-DESC;FMTTYPE=text/html:<span style="line-height: 1.5\;">A musical history of space flight...an extraordinary adventure to a place where the past and the future collide. &nbsp\;Set to the music of Aaron Copeland and presented in high definition video programming.</span>
LOCATION:Cox Performing Arts Center Dixie State University Campus 325 South 700 East St. George\, UT 84720
UID:e.1117.4279
SEQUENCE:3
DTSTAMP:20260421T182822Z
URL:https://business.stgeorgechamber.com/events/details/southwest-symphony-orchestra-one-small-step-concert-11-01-2013-4279
END:VEVENT

END:VCALENDAR
