BEGIN:VCALENDAR
VERSION:2.0
PRODID:-//ChamberMaster//Event Calendar 2.0//EN
METHOD:PUBLISH
X-PUBLISHED-TTL:P3D
REFRESH-INTERVAL:P3D
CALSCALE:GREGORIAN
BEGIN:VEVENT
DTSTART:20151207T023000Z
DTEND:20151208T040000Z
X-MICROSOFT-CDO-ALLDAYEVENT:FALSE
SUMMARY:Southwest Symphony Orchestra "Handel's Messiah" Concert
DESCRIPTION:Messiah\, a life-long Southern Utah Christmas tradition\, sets the mood for the season's festivities.  Savor the brilliance of this inspiring masterpiece\, featuring Lieto Voices! and the Messiah Chorale.
X-ALT-DESC;FMTTYPE=text/html:<span style="line-height: 1.5\;">Messiah\, a life-long Southern Utah Christmas tradition\, sets the mood for the season&#39\;s festivities. &nbsp\;Savor the brilliance of this inspiring masterpiece\, featuring Lieto Voices! and the Messiah Chorale. &nbsp\;</span>
LOCATION:Cox Performing Arts Center Dixie State University Campus 325 South 700 East St. George\, UT 84720
UID:e.1117.7369
SEQUENCE:3
DTSTAMP:20260420T031657Z
URL:https://business.stgeorgechamber.com/events/details/southwest-symphony-orchestra-handel-s-messiah-concert-12-06-2015-7369
END:VEVENT

END:VCALENDAR
