BEGIN:VCALENDAR
VERSION:2.0
PRODID:-//ChamberMaster//Event Calendar 2.0//EN
METHOD:PUBLISH
X-PUBLISHED-TTL:P3D
REFRESH-INTERVAL:P3D
CALSCALE:GREGORIAN
BEGIN:VEVENT
DTSTART:20140507T010000Z
DTEND:20140507T030000Z
X-MICROSOFT-CDO-ALLDAYEVENT:FALSE
SUMMARY:Southern Utah Puppet Players
DESCRIPTION:Southern Utah Puppet Players If you are interested in Puppetry- Building\, Performing\, Teaching\, or a Supporter of the Art of Puppetry join us May 6th at the DiFiore Center. This will be a membership and planning meeting. Please contact us with questions difiorecenter@gmail.com or 435-673-4206. July 2014 will be a celebration of Puppets. We will have classes\, workshops and a gallery full of wonderful puppets.
X-ALT-DESC;FMTTYPE=text/html:Southern Utah Puppet Players If you are interested in Puppetry- Building\, Performing\, Teaching\, or a Supporter of the Art of Puppetry join us May 6th at the DiFiore Center. This will be a membership and planning meeting. Please contact us with questions difiorecenter@gmail.com or 435-673-4206. July 2014 will be a celebration of Puppets. We will have classes\, workshops and a gallery full of wonderful puppets.
LOCATION:The DiFiore Center 307 North Main Street\, St George\, Utah 84770
UID:e.1117.5215
SEQUENCE:3
DTSTAMP:20260421T095817Z
URL:https://business.stgeorgechamber.com/events/details/southern-utah-puppet-players-05-06-2014-5215
END:VEVENT

END:VCALENDAR
