BEGIN:VCALENDAR
VERSION:2.0
PRODID:-//ChamberMaster//Event Calendar 2.0//EN
METHOD:PUBLISH
X-PUBLISHED-TTL:P3D
REFRESH-INTERVAL:P3D
CALSCALE:GREGORIAN
BEGIN:VEVENT
DTSTART:20160318T150000Z
DTEND:20160319T230000Z
X-MICROSOFT-CDO-ALLDAYEVENT:FALSE
SUMMARY:Southern Utah LDS Homeschool & Youth Conference
DESCRIPTION:This is a Christ Centered conference that will help center all learning around the Gospel of Jesus Christ. This is for the homeschooler\, public schooler and any alternative education parent\, grandparent and educator! This will liven up all schooling and increase curiosity. There will be classes on music\, God's favorite numbers\, being a math mentor\, improve communication in the home\, homeschooling with special needs\, learning a second language in the home\, teaching a love for America\, Patterns of Learning\, Temple Paths\, Literature Games\, Economic Lessons for Children\, etc.
X-ALT-DESC;FMTTYPE=text/html:<span style="color: rgb(34\, 34\, 34)\; font-family: arial\, sans-serif\; font-size: 13.3333px\; line-height: normal\;">This is a Christ Centered conference that will help center all learning around the Gospel of Jesus Christ. This is for the homeschooler\, public schooler and any alternative education parent\, grandparent and educator! This will liven up all schooling and increase curiosity. There will be classes on music\, God&#39\;s favorite numbers\, being a math mentor\, improve communication in the home\, homeschooling with special needs\, learning a second language in the home\, teaching a love for America\, Patterns of Learning\, Temple Paths\, Literature Games\, Economic Lessons for Children\, etc.&nbsp\;</span>
LOCATION:Hurricane Fine Arts Center 92 S 100 W Hurricane\, UT
UID:e.1117.8503
SEQUENCE:3
DTSTAMP:20260419T234928Z
URL:https://business.stgeorgechamber.com/events/details/southern-utah-lds-homeschool-youth-conference-03-18-2016-8503
END:VEVENT

END:VCALENDAR
