BEGIN:VCALENDAR
VERSION:2.0
PRODID:-//ChamberMaster//Event Calendar 2.0//EN
METHOD:PUBLISH
X-PUBLISHED-TTL:P3D
REFRESH-INTERVAL:P3D
CALSCALE:GREGORIAN
BEGIN:VEVENT
DTSTART:20140426T050000Z
DTEND:20140427T020000Z
X-MICROSOFT-CDO-ALLDAYEVENT:FALSE
SUMMARY:Southern Utah Culinary Festival
DESCRIPTION:Two days of local eateries sampling food\, live music and great weather. \n\n\n\nClose to 40 local restaurants will be showing off and sampling their most popular and memorable menu items from their restaurants. \n\n\n\nAs a attendee you will get to enjoy the amazing weather in the park and choose the most appealing morsels to satisfy your craving. We are sure you will discover what is great about local food. Get ready to taste what Southern Utah has to offer\, then relax to live music\, exciting food challenges\, cooking demonstrations\, or talk a walk through our retail row. After you're full\, and satisfied even consider taking a nap under a big tree while the kids play in the kid-zone.
X-ALT-DESC;FMTTYPE=text/html:<span style="color: rgb(35\, 31\, 32)\; font-family: ProximaNova\, Helvetica\, Arial\, sans-serif\; font-size: 15px\; line-height: 15px\;">Two days of local eateries sampling food\, live music and great weather.&nbsp\;</span><br style="color: rgb(35\, 31\, 32)\; font-family: ProximaNova\, Helvetica\, Arial\, sans-serif\; font-size: 15px\; line-height: 15px\;" />\n<br style="color: rgb(35\, 31\, 32)\; font-family: ProximaNova\, Helvetica\, Arial\, sans-serif\; font-size: 15px\; line-height: 15px\;" />\n<span style="color: rgb(35\, 31\, 32)\; font-family: ProximaNova\, Helvetica\, Arial\, sans-serif\; font-size: 15px\; line-height: 15px\;">Close to 40 local restaurants will be showing off and sampling their most popular and memorable menu items from their restaurants.&nbsp\;</span><br style="color: rgb(35\, 31\, 32)\; font-family: ProximaNova\, Helvetica\, Arial\, sans-serif\; font-size: 15px\; line-height: 15px\;" />\n<br style="color: rgb(35\, 31\, 32)\; font-family: ProximaNova\, Helvetica\, Arial\, sans-serif\; font-size: 15px\; line-height: 15px\;" />\n<span style="color: rgb(35\, 31\, 32)\; font-family: ProximaNova\, Helvetica\, Arial\, sans-serif\; font-size: 15px\; line-height: 15px\;">As a attendee you will get to enjoy the amazing weather in the park and choose the most appealing morsels to satisfy your craving. We are sure you will discover what is great about local food. Get ready to taste what Southern Utah has to offer\, then relax to live music\, exciting food challenges\, cooking demonstrations\, or talk a walk through our retail row. After you&#39\;re full\, and satisfied even consider taking a nap under a big tree while the kids play in the kid-zone.&nbsp\;</span>
LOCATION:Vernon Worthen Park
UID:e.1117.5228
SEQUENCE:3
DTSTAMP:20260421T125858Z
URL:https://business.stgeorgechamber.com/events/details/southern-utah-culinary-festival-04-25-2014-5228
END:VEVENT

END:VCALENDAR
