BEGIN:VCALENDAR
VERSION:2.0
PRODID:-//ChamberMaster//Event Calendar 2.0//EN
METHOD:PUBLISH
X-PUBLISHED-TTL:P3D
REFRESH-INTERVAL:P3D
CALSCALE:GREGORIAN
BEGIN:VEVENT
DTSTART:20150424T170000Z
DTEND:20150426T020000Z
X-MICROSOFT-CDO-ALLDAYEVENT:FALSE
SUMMARY:Southern Utah Culinary Festival
DESCRIPTION:This is the premier food show in Southern Utah. Focused on locally owned and operated eateries\, locals have an opportunity to come and taste close to 100 different sampling's all in one fun filled environment. Come to the park\, enjoy our amazing spring weather\, live local music\, local dance talent\, free kids attractions\, and most of all\, great food! With just your lunch money\, you can wonder around and discover all the different local restruants and create a new 'hit list' of favorites that will leave you excited to dine out with newly discovered gems. We have a strong local food scene\; this is the way to discover it!
X-ALT-DESC;FMTTYPE=text/html:This is the premier food show in Southern Utah. Focused on locally owned and operated eateries\, locals have an opportunity to come and taste close to 100 different sampling&#39\;s all in one fun filled environment. Come to the park\, enjoy our amazing spring weather\, live local music\, local dance talent\, free kids attractions\, and most of all\, great food! With just your lunch money\, you can wonder around and discover all the different local restruants and create a new &#39\;hit list&#39\; of favorites that will leave you excited to dine out with newly discovered gems. We have a strong local food scene\; this is the way to discover it!
LOCATION:Vernon Worthen Park 400 E. 300 S.
UID:e.1117.6339
SEQUENCE:3
DTSTAMP:20260420T191012Z
URL:https://business.stgeorgechamber.com/events/details/southern-utah-culinary-festival-04-24-2015-6339
END:VEVENT

END:VCALENDAR
