BEGIN:VCALENDAR
VERSION:2.0
PRODID:-//ChamberMaster//Event Calendar 2.0//EN
METHOD:PUBLISH
X-PUBLISHED-TTL:P3D
REFRESH-INTERVAL:P3D
CALSCALE:GREGORIAN
BEGIN:VEVENT
DTSTART:20160405T140000Z
DTEND:20160406T000000Z
X-MICROSOFT-CDO-ALLDAYEVENT:FALSE
SUMMARY:Southern Utah Community Impact Summit
DESCRIPTION:April 5th will be DEDICATED to collaboration as the Utah Nonprofits Association\, City of St. George Mayor Jon Pike\, Sen. Orrin G. Hatch Professional Staff Member Dianne Browning\; UServeUtah\, Utah State Legislators and nonprofit organizations across the state join together for the first ever Southern Utah Community Impact Summit!\n\nFor more than 25 years the UNA has worked to strengthen the Utah nonprofit community so that we may all work together to create a dynamic group of organizations that serve the various needs of our local and global community. Our vision is to promote strong and vibrant communities across Utah. To achieve our goal\, we focus first on our mission: To unify\, strengthen and elevate Utah's nonprofits. In doing so\, we have become engaged leaders that join together to build better communities for all Utahans.\n\nThe objective of the Southern Utah Community Impact Summit is to ignite and inspire our audience and our Southern Utah residents to actively engage in collaboration to reduce redundancy\, stretch dollars\, and expand effective programs or services to ensure that our community is served in the most efficient way. The full day event will feature interactive educational programs\, peer-to-peer networking and success sharing\; the Community Impact Challenge and Exposition (Prizes Are: $1\,000 and $2\,500)\; Panel Discussion and first ever Community Impact Awards Ceremony.
X-ALT-DESC;FMTTYPE=text/html:<p style="box-sizing: border-box\; margin: 0px 0px 15px\; line-height: 1.68em\; font-size: 15px\; color: rgb(70\, 70\, 70)\; font-family: Lato\; background-color: rgb(250\, 250\, 250)\;">April 5th will be DEDICATED to collaboration as the Utah Nonprofits Association\, City of St. George Mayor Jon Pike\, Sen. Orrin G. Hatch Professional Staff Member Dianne Browning\; UServeUtah\, Utah State Legislators and nonprofit organizations across the state join together for the first ever Southern Utah Community Impact Summit!</p>\n\n<p style="box-sizing: border-box\; margin: 0px 0px 15px\; line-height: 1.68em\; font-size: 15px\; color: rgb(70\, 70\, 70)\; font-family: Lato\; background-color: rgb(250\, 250\, 250)\;">For more than 25 years the UNA has worked to strengthen the Utah nonprofit community so that we may all work together to create a dynamic group of organizations that serve the various needs of our local and global community. Our vision is to promote strong and vibrant communities across Utah. To achieve our goal\, we focus first on our mission: To unify\, strengthen and elevate Utah&#39\;s nonprofits. In doing so\, we have become engaged leaders that join together to build better communities for all Utahans.</p>\n\n<p style="box-sizing: border-box\; margin: 0px 0px 15px\; line-height: 1.68em\; font-size: 15px\; color: rgb(70\, 70\, 70)\; font-family: Lato\; background-color: rgb(250\, 250\, 250)\;">The objective of the Southern Utah Community Impact Summit is to ignite and inspire our audience and our Southern Utah residents to actively engage in collaboration to reduce redundancy\, stretch dollars\, and expand effective programs or services to ensure that our community is served in the most efficient way. The full day event will feature interactive educational programs\, peer-to-peer networking and success sharing\; the Community Impact Challenge and Exposition (Prizes Are: $1\,000 and $2\,500)\; Panel Discussion and first ever Community Impact Awards Ceremony.</p>\n\n<h3 style="box-sizing: border-box\; margin: 10px 0px\; font-family: Lato\; line-height: 1.96em\; color: rgb(70\, 70\, 70)\; text-rendering: optimizeLegibility\; font-size: 24px\; word-break: break-word\; background-color: rgb(250\, 250\, 250)\;">&nbsp\;</h3>\n
LOCATION:Dixie Elks Lodge 630 W 1250 N St George\, UT 84770
UID:e.1117.8536
SEQUENCE:3
DTSTAMP:20260419T215441Z
URL:https://business.stgeorgechamber.com/events/details/southern-utah-community-impact-summit-04-05-2016-8536
END:VEVENT

END:VCALENDAR
