BEGIN:VCALENDAR
VERSION:2.0
PRODID:-//ChamberMaster//Event Calendar 2.0//EN
METHOD:PUBLISH
X-PUBLISHED-TTL:P3D
REFRESH-INTERVAL:P3D
CALSCALE:GREGORIAN
BEGIN:VEVENT
DTSTART:20140307T180000Z
DTEND:20140307T203000Z
X-MICROSOFT-CDO-ALLDAYEVENT:FALSE
SUMMARY:Soup 'N a Bowl
DESCRIPTION:The Annual Soup N' Bowl Fundraiser generates support for the Permanent Collection. Tickets for this event are available for purchase at the Art Museum or from Advisory Board members for 3 weeks prior to the event or at the door.\n\n\n\nParticipants will also have the opportunity to bid on gorgeous art pieces offered in the Silent Auction and to meet some of the potters who donated bowls and auction items.\n\n\n\nThis is a wonderful opportunity to support the museum while enjoying a fun outing with family and friends. As an added bonus\, a visit to the Art Museum is included in your ticket cost. Don't miss this fun event!\n\nYou can:\n\n\n\n* Support the Museum\n\n* Enjoy lunch with fellow art lovers\n\n* Keep your beautiful hand-made bowl\n\n* Bid on other Pottery\n\n* Visit the Art Museum which is included in the ticket price
X-ALT-DESC;FMTTYPE=text/html:<span style="font-size:14px\;"><span style="font-family:arial\;">The Annual Soup N&#39\; Bowl Fundraiser generates support for the Permanent Collection. Tickets for this event are available for purchase at the Art Museum or from Advisory Board members for 3 weeks prior to the event or at the door.<br />\n<br />\nParticipants will also have the opportunity to bid on gorgeous art pieces offered in the Silent Auction and to meet some of the potters who donated bowls and auction items.<br />\n<br />\nThis is a wonderful opportunity to support the museum while enjoying a fun outing with family and friends. As an added bonus\, a visit to the Art Museum is included in your ticket cost. Don&#39\;t miss this fun event!<br />\nYou can:<br />\n<br />\n* Support the Museum<br />\n* Enjoy lunch with fellow art lovers<br />\n* Keep your beautiful hand-made bowl<br />\n* Bid on other Pottery<br />\n* Visit the Art Museum which is included in the ticket price</span></span>
LOCATION:47 East 200 North St. George
UID:e.1117.5094
SEQUENCE:3
DTSTAMP:20260421T125636Z
URL:https://business.stgeorgechamber.com/events/details/soup-n-a-bowl-03-07-2014-5094
END:VEVENT

END:VCALENDAR
