BEGIN:VCALENDAR
VERSION:2.0
PRODID:-//ChamberMaster//Event Calendar 2.0//EN
METHOD:PUBLISH
X-PUBLISHED-TTL:P3D
REFRESH-INTERVAL:P3D
CALSCALE:GREGORIAN
BEGIN:VEVENT
DTSTART:20160304T180000Z
DTEND:20160304T203000Z
X-MICROSOFT-CDO-ALLDAYEVENT:FALSE
SUMMARY:Soup 'N a Bowl
DESCRIPTION:The Annual Soup N' Bowl Fundraiser generates support for the Permanent Collection. Tickets for this event are available for purchase at the Art Museum\, from Advisory Board members or at the door.\n\n \n\nFor a ticket price of only $25 per person\, attendees will get to choose a bowl from a wide variety created and donated by local potters and ceramics students and also enjoy a delicious lunch of soup\, bread\, and dessert.\n\n \n\nParticipants will also have the opportunity to bid on gorgeous art pieces offered in the Silent Auction and enjoy live music on the patio.\n\n \n\nThis is a wonderful opportunity to support the museum while enjoying a fun outing with family and friends. As an added bonus\, a visit to the Art Museum is included in your ticket cost. Don't miss this fun event!\n\n \n\nYou can:\n\n \n\n    * Support the Museum\n\n    * Enjoy lunch with fellow art lovers\n\n    * Keep your beautiful hand-made bowl\n\n    * Bid on other Pottery\n\n    * Visit the Art Museum which is included in the ticket price
X-ALT-DESC;FMTTYPE=text/html:<span style="font-size:14px\;"><span style="font-family:arial\;">The Annual Soup N&#39\; Bowl Fundraiser generates support for the Permanent Collection. Tickets for this event are available for purchase at the Art Museum\, from Advisory Board members or at the door.<br />\n&nbsp\;<br />\nFor a ticket price of only $25 per person\, attendees will get to choose a bowl from a wide variety created and donated by local potters and ceramics students and also enjoy a delicious lunch of soup\, bread\, and dessert.<br />\n&nbsp\;<br />\nParticipants will also have the opportunity to bid on gorgeous art pieces offered in the Silent Auction and enjoy live music on the patio.<br />\n&nbsp\;<br />\nThis is a wonderful opportunity to support the museum while enjoying a fun outing with family and friends. As an added bonus\, a visit to the Art Museum is included in your ticket cost. Don&#39\;t miss this fun event!<br />\n&nbsp\;<br />\nYou can:<br />\n&nbsp\;<br />\n&nbsp\;&nbsp\;&nbsp\; * Support the Museum<br />\n&nbsp\;&nbsp\;&nbsp\; * Enjoy lunch with fellow art lovers<br />\n&nbsp\;&nbsp\;&nbsp\; * Keep your beautiful hand-made bowl<br />\n&nbsp\;&nbsp\;&nbsp\; * Bid on other Pottery<br />\n&nbsp\;&nbsp\;&nbsp\; * Visit the Art Museum which is included in the ticket price</span></span>
LOCATION:47 East 200 North St. George
UID:e.1117.8467
SEQUENCE:3
DTSTAMP:20260419T215337Z
URL:https://business.stgeorgechamber.com/events/details/soup-n-a-bowl-03-04-2016-8467
END:VEVENT

END:VCALENDAR
