BEGIN:VCALENDAR
VERSION:2.0
PRODID:-//ChamberMaster//Event Calendar 2.0//EN
METHOD:PUBLISH
X-PUBLISHED-TTL:P3D
REFRESH-INTERVAL:P3D
CALSCALE:GREGORIAN
BEGIN:VEVENT
DTSTART:20140422T010000Z
DTEND:20140422T020000Z
X-MICROSOFT-CDO-ALLDAYEVENT:FALSE
SUMMARY:Sounds of Renewal
DESCRIPTION:Southwest Chorale\, conducted by Robert Briggs\, performs their 2014 springtime concert in the St. George Catholic Church sanctuary. Concert is non-denominational\, admission is free and open to the public. An array of uplifting songs to celebrate the season. Special guests\, "Sing 2 Live" choir.
X-ALT-DESC;FMTTYPE=text/html:Southwest Chorale\, conducted by Robert Briggs\, performs their 2014 springtime concert in the St. George Catholic Church sanctuary. Concert is non-denominational\, admission is free and open to the public. An array of uplifting songs to celebrate the season. Special guests\, &quot\;Sing 2 Live&quot\; choir.
LOCATION:St. George Catholic Church 259 West 200 North St. George
UID:e.1117.5191
SEQUENCE:3
DTSTAMP:20260421T112347Z
URL:https://business.stgeorgechamber.com/events/details/sounds-of-renewal-04-21-2014-5191
END:VEVENT

END:VCALENDAR
