BEGIN:VCALENDAR
VERSION:2.0
PRODID:-//ChamberMaster//Event Calendar 2.0//EN
METHOD:PUBLISH
X-PUBLISHED-TTL:P3D
REFRESH-INTERVAL:P3D
CALSCALE:GREGORIAN
BEGIN:VEVENT
DTSTART:20160729T180000Z
DTEND:20160731T030000Z
X-MICROSOFT-CDO-ALLDAYEVENT:FALSE
SUMMARY:So Utah Vocal Edge Singing Competition and Workshops
DESCRIPTION:So Utah Vocal Edge Singing Competition and Workshops is premiering here in So Utah with 2 days of workshops and masterclasses in vocal technique\, marketing\, studio recording\, performance techniques and more by industry professionals. Besides the classes\, there will be a vocal competition for 3 age groups\, 18 and older\, 13-17 and 12 and under. Prizes\, Fun. A finale and concert will be Saturday from 7-9pm and tickets can be purchased separately at www.showtix4u.com
X-ALT-DESC;FMTTYPE=text/html:So Utah Vocal Edge Singing Competition and Workshops is premiering here in So Utah with 2 days of workshops and masterclasses in vocal technique\, marketing\, studio recording\, performance techniques and more by industry professionals. Besides the classes\, there will be a vocal competition for 3 age groups\, 18 and older\, 13-17 and 12 and under. Prizes\, Fun. A finale and concert will be Saturday from 7-9pm and tickets can be purchased separately at www.showtix4u.com
LOCATION:The Electric Theater 68 E Tabernacle
UID:e.1117.9039
SEQUENCE:3
DTSTAMP:20260419T165224Z
URL:https://business.stgeorgechamber.com/events/details/so-utah-vocal-edge-singing-competition-and-workshops-07-29-2016-9039
END:VEVENT

END:VCALENDAR
