BEGIN:VCALENDAR
VERSION:2.0
PRODID:-//ChamberMaster//Event Calendar 2.0//EN
METHOD:PUBLISH
X-PUBLISHED-TTL:P3D
REFRESH-INTERVAL:P3D
CALSCALE:GREGORIAN
BEGIN:VEVENT
DTSTART:20220524T150000Z
DTEND:20220524T163000Z
X-MICROSOFT-CDO-ALLDAYEVENT:FALSE
SUMMARY:Snow Canyon State Park Scenic Overlook Rim Beautification
DESCRIPTION:We will be cleaning up along and below the rim of the overlook. Wear boots or sturdy shoes\, dress appropriately for weather conditions and bring work gloves. Water and snacks provided.
X-ALT-DESC;FMTTYPE=text/html:We will be cleaning up along and below the rim of the overlook. Wear boots or sturdy shoes\, dress appropriately for weather conditions and bring work gloves. Water and snacks provided.&nbsp\;
LOCATION:Meet at the Snow Canyon Scenic Overlook SR-18 one mile south of the north entrance to Snow Canyon State Park - west side of the road.
UID:e.1117.16736
SEQUENCE:3
DTSTAMP:20260419T231437Z
URL:https://business.stgeorgechamber.com/events/details/snow-canyon-state-park-scenic-overlook-rim-beautification-16736
END:VEVENT

END:VCALENDAR
