BEGIN:VCALENDAR
VERSION:2.0
PRODID:-//ChamberMaster//Event Calendar 2.0//EN
METHOD:PUBLISH
X-PUBLISHED-TTL:P3D
REFRESH-INTERVAL:P3D
CALSCALE:GREGORIAN
BEGIN:VEVENT
DTSTART:20150502T170000Z
DTEND:20150504T010000Z
X-MICROSOFT-CDO-ALLDAYEVENT:FALSE
SUMMARY:Smokin in Mesquite BBQ
DESCRIPTION:Championship is one of the biggest prize purses in the west. Come and enjoy great competition and a down home weekend in the great city of Mesquite\, Nevada at the CasaBlanca Resort.\n\n\n\nSchedule for Saturday\, May 2\n\n11am-7pm\n\nPurchase competition food from BBQ teams\n\n  Beer Garden and Mesquite BBQ & Backyard Expo Opens\n\n  DJ Johnny Utah at 6pm\n\n\n\nSchedule for Sunday\, May 3\n\n  Purchase competition food from BBQ teams\n\n  Beer Garden and Mesquite BBQ & Backyard Expo Opens\n\n  DJ Johnny Utah at 6:00pm\n\n  BBQ Awards
X-ALT-DESC;FMTTYPE=text/html:Championship is one of the biggest prize purses in the west. Come and enjoy great competition and a down home weekend in the great city of Mesquite\, Nevada at the CasaBlanca Resort.<br />\n<br />\n<strong><u>Schedule for Saturday\, May 2</u></strong><br />\n11am-7pm<br />\nPurchase competition food from BBQ teams<br />\n&bull\; Beer Garden and Mesquite BBQ &amp\; Backyard Expo Opens<br />\n&bull\; DJ Johnny Utah at 6pm<br />\n<br />\n<strong style="line-height: 20.7999992370605px\;"><u>Schedule for Sunday\, May 3</u></strong><br />\n&bull\; Purchase competition food from BBQ teams<br />\n&bull\; Beer Garden and Mesquite BBQ &amp\; Backyard Expo Opens<br />\n&bull\; DJ Johnny Utah at 6:00pm<br />\n&bull\; BBQ Awards
LOCATION:CasaBlanca Resort
UID:e.1117.6421
SEQUENCE:3
DTSTAMP:20260420T154758Z
URL:https://business.stgeorgechamber.com/events/details/smokin-in-mesquite-bbq-05-02-2015-6421
END:VEVENT

END:VCALENDAR
