BEGIN:VCALENDAR
VERSION:2.0
PRODID:-//ChamberMaster//Event Calendar 2.0//EN
METHOD:PUBLISH
X-PUBLISHED-TTL:P3D
REFRESH-INTERVAL:P3D
CALSCALE:GREGORIAN
BEGIN:VEVENT
DTSTART;VALUE=DATE:20140425
DTEND;VALUE=DATE:20140428
TRANSP:TRANSPARENT
X-MICROSOFT-CDO-ALLDAYEVENT:TRUE
SUMMARY:Smokin in Mesquite BBQ
DESCRIPTION:Championship is one of the biggest prize purses in the west. Come and enjoy great competition and a down home weekend in the great city of Mesquite\, Nevada at the CasaBlanca Resort.
X-ALT-DESC;FMTTYPE=text/html:Championship is one of the biggest prize purses in the west. Come and enjoy great competition and a down home weekend in the great city of Mesquite\, Nevada at the CasaBlanca Resort.
LOCATION:CasaBlanca Resort
UID:e.1117.5214
SEQUENCE:3
DTSTAMP:20260421T112142Z
URL:https://business.stgeorgechamber.com/events/details/smokin-in-mesquite-bbq-04-25-2014-5214
END:VEVENT

END:VCALENDAR
