BEGIN:VCALENDAR
VERSION:2.0
PRODID:-//ChamberMaster//Event Calendar 2.0//EN
METHOD:PUBLISH
X-PUBLISHED-TTL:P3D
REFRESH-INTERVAL:P3D
CALSCALE:GREGORIAN
BEGIN:VEVENT
DTSTART:20151016T013000Z
DTEND:20151016T040000Z
X-MICROSOFT-CDO-ALLDAYEVENT:FALSE
SUMMARY:"Sister Act" at Tuacahn
DESCRIPTION:The show-stopping Deloris is the heart and soul of this feel-good musical. Her glamorous lifestyle and general fabulousness keep everyone rooting for her through her journey to the convent.\n\nSister Act tells the hilarious story of Deloris Van Cartier\, a wannabe diva whose life takes a surprising turn when she witnesses a crime and the cops hide her in the last place anyone would think to look a convent!\n\nUnder the suspicious watch of Mother Superior\, Deloris helps her fellow sisters find their voices as she unexpectedly rediscovers her own. A sparkling tribute to the universal power of friendship\, SISTER ACT is reason to REJOICE!
X-ALT-DESC;FMTTYPE=text/html:The show-stopping Deloris is the heart and soul of this feel-good musical. Her glamorous lifestyle and general fabulousness keep everyone rooting for her through her journey to the convent.<br />\nSister Act tells the hilarious story of Deloris Van Cartier\, a wannabe diva whose life takes a surprising turn when she witnesses a crime and the cops hide her in the last place anyone would think to look&mdash\;a convent!<br />\nUnder the suspicious watch of Mother Superior\, Deloris helps her fellow sisters find their voices as she unexpectedly rediscovers her own. A sparkling tribute to the universal power of friendship\, SISTER ACT is reason to REJOICE!
LOCATION:Tuacahn Ampitheatre 1100 Tuacahn Drive
UID:e.1117.7069
SEQUENCE:3
DTSTAMP:20260420T065009Z
URL:https://business.stgeorgechamber.com/events/details/sister-act-at-tuacahn-10-15-2015-7069
END:VEVENT

END:VCALENDAR
