BEGIN:VCALENDAR
VERSION:2.0
PRODID:-//ChamberMaster//Event Calendar 2.0//EN
METHOD:PUBLISH
X-PUBLISHED-TTL:P3D
REFRESH-INTERVAL:P3D
CALSCALE:GREGORIAN
BEGIN:VEVENT
DTSTART:20150509T140000Z
DTEND:20150509T170000Z
X-MICROSOFT-CDO-ALLDAYEVENT:FALSE
SUMMARY:Silver Reef Archaeology Lecture & Walk
DESCRIPTION:Free Archaeology Lecture and Walk with Dr. Robert Schuyler\, University of Pennsylvania.  He will be speaking on the history and artifacts of Silver Reef.
X-ALT-DESC;FMTTYPE=text/html:Free Archaeology&nbsp\;Lecture and Walk with Dr. Robert Schuyler\, University of Pennsylvania. &nbsp\;He will be speaking on the history and artifacts of Silver Reef.
LOCATION:Meet at the Silver Reef Museum 1903 Wells Fargo Dr. Leeds
UID:e.1117.6454
SEQUENCE:3
DTSTAMP:20260420T154758Z
URL:https://business.stgeorgechamber.com/events/details/silver-reef-archaeology-lecture-walk-05-09-2015-6454
END:VEVENT

END:VCALENDAR
