BEGIN:VCALENDAR
VERSION:2.0
PRODID:-//ChamberMaster//Event Calendar 2.0//EN
METHOD:PUBLISH
X-PUBLISHED-TTL:P3D
REFRESH-INTERVAL:P3D
CALSCALE:GREGORIAN
BEGIN:VEVENT
DTSTART:20151029T230000Z
DTEND:20151030T020000Z
X-MICROSOFT-CDO-ALLDAYEVENT:FALSE
SUMMARY:Shreeeek-reeka\, a Trick or Treat Spooktacular
DESCRIPTION:-Haunted House\n\n-Trick or Treat stations\n\n-Carnival Games\n\n-Live DJ until 8:30pm\n\n-Kids of all ages welcome
X-ALT-DESC;FMTTYPE=text/html:-Haunted House<br />\n-Trick or Treat stations<br />\n-Carnival Games<br />\n-Live DJ until 8:30pm<br />\n-Kids of all ages welcome
LOCATION:Eureka Casino Hotel 245 Mesa Blvd. Mesquite\, NV
UID:e.1117.7257
SEQUENCE:3
DTSTAMP:20260420T065553Z
URL:https://business.stgeorgechamber.com/events/details/shreeeek-reeka-a-trick-or-treat-spooktacular-10-29-2015-7257
END:VEVENT

END:VCALENDAR
