BEGIN:VCALENDAR
VERSION:2.0
PRODID:-//ChamberMaster//Event Calendar 2.0//EN
METHOD:PUBLISH
X-PUBLISHED-TTL:P3D
REFRESH-INTERVAL:P3D
CALSCALE:GREGORIAN
BEGIN:VEVENT
DTSTART:20141114T023000Z
DTEND:20141116T050000Z
X-MICROSOFT-CDO-ALLDAYEVENT:FALSE
SUMMARY:SGMT's The Odd Couple
DESCRIPTION:Come and join the fun and antics of Felix Unger and Oscar Madison up close and personal. Based on the movie and characters made popular by Jack Lemmon and Walter Matthau. The laughs are plenty! Get your tickets at www.sgmusicaltheater.com
X-ALT-DESC;FMTTYPE=text/html:Come and join the fun and antics of Felix Unger and Oscar Madison up close and personal. Based on the movie and characters made popular by Jack Lemmon&nbsp\;and Walter Matthau. The laughs are plenty! Get your tickets at <a href="http://www.sgmusicaltheater.com">www.sgmusicaltheater.com</a>
LOCATION:St George Opera House\, 212 N Main Street\, St George\, UT 84770
UID:e.1117.6189
SEQUENCE:3
DTSTAMP:20260421T025944Z
URL:https://business.stgeorgechamber.com/events/details/sgmt-s-the-odd-couple-11-13-2014-6189
END:VEVENT

END:VCALENDAR
