BEGIN:VCALENDAR
VERSION:2.0
PRODID:-//ChamberMaster//Event Calendar 2.0//EN
METHOD:PUBLISH
X-PUBLISHED-TTL:P3D
REFRESH-INTERVAL:P3D
CALSCALE:GREGORIAN
BEGIN:VEVENT
DTSTART:20141125T010000Z
DTEND:20141125T050000Z
X-MICROSOFT-CDO-ALLDAYEVENT:FALSE
SUMMARY:SGMT Presents Shayla Osbone Beck
DESCRIPTION:Shayla Osborn Beck - Fresh from the Broadway Tour of Wicked. One Night Only! Gala dinner and fund raiser. Dinner catered by Benja's Thai Garden. Additional entertainment from SGMT's past\, present\, and future.
X-ALT-DESC;FMTTYPE=text/html:Shayla Osborn Beck - Fresh from the Broadway Tour of Wicked. One Night Only! Gala dinner and fund raiser. Dinner catered by Benja&#39\;s Thai Garden. Additional entertainment from SGMT&#39\;s past\, present\, and future.
LOCATION:St George Opera House and Social Hall
UID:e.1117.6192
SEQUENCE:3
DTSTAMP:20260421T010931Z
URL:https://business.stgeorgechamber.com/events/details/sgmt-presents-shayla-osbone-beck-11-24-2014-6192
END:VEVENT

END:VCALENDAR
