BEGIN:VCALENDAR
VERSION:2.0
PRODID:-//ChamberMaster//Event Calendar 2.0//EN
METHOD:PUBLISH
X-PUBLISHED-TTL:P3D
REFRESH-INTERVAL:P3D
CALSCALE:GREGORIAN
BEGIN:VEVENT
DTSTART:20141113T020000Z
DTEND:20141113T040000Z
X-MICROSOFT-CDO-ALLDAYEVENT:FALSE
SUMMARY:SGMT Presents Mindy Gledhill
DESCRIPTION:
X-ALT-DESC;FMTTYPE=text/html:
LOCATION:St George Opera House
UID:e.1117.6193
SEQUENCE:3
DTSTAMP:20260421T012347Z
URL:https://business.stgeorgechamber.com/events/details/sgmt-presents-mindy-gledhill-11-12-2014-6193
END:VEVENT

END:VCALENDAR
