BEGIN:VCALENDAR
VERSION:2.0
PRODID:-//ChamberMaster//Event Calendar 2.0//EN
METHOD:PUBLISH
X-PUBLISHED-TTL:P3D
REFRESH-INTERVAL:P3D
CALSCALE:GREGORIAN
BEGIN:VEVENT
DTSTART:20160423T170000Z
DTEND:20160423T190000Z
X-MICROSOFT-CDO-ALLDAYEVENT:FALSE
SUMMARY:Senior Corps Car Show & BBQ
DESCRIPTION:Come to a Classic Car show and $5/ plate BBQ to support the Five County Association of Governments Senior Corps Program. There will be music\, opportunity drawings\, lots of food\, and really neat old cars. The Senior Corps programs consist of Foster Grandparent and Senior Companion volunteers who are 55 years and older and give at least 60 hours of service a month in our community.
X-ALT-DESC;FMTTYPE=text/html:Come to a Classic Car show and $5/ plate BBQ to support the Five County Association of Governments Senior Corps Program. There will be music\, opportunity drawings\, lots of food\, and really neat old cars. The Senior Corps programs consist of Foster Grandparent and Senior Companion volunteers who are 55 years and older and give at least 60 hours of service a month in our community.
LOCATION:Brookdale Southgate 134 S. 2025 S. Circle\, St. George
UID:e.1117.8531
SEQUENCE:3
DTSTAMP:20260419T201410Z
URL:https://business.stgeorgechamber.com/events/details/senior-corps-car-show-bbq-04-23-2016-8531
END:VEVENT

END:VCALENDAR
