BEGIN:VCALENDAR
VERSION:2.0
PRODID:-//ChamberMaster//Event Calendar 2.0//EN
METHOD:PUBLISH
X-PUBLISHED-TTL:P3D
REFRESH-INTERVAL:P3D
CALSCALE:GREGORIAN
BEGIN:VEVENT
DTSTART:20140204T160000Z
DTEND:20140204T203000Z
X-MICROSOFT-CDO-ALLDAYEVENT:FALSE
SUMMARY:Senior Connection Expo
DESCRIPTION:40+ Vendors with products and services important to today's seniors. In addition to the businesses represented at the show\, live entertainment by senior citizens is featured on stage. Acts include\; fashion shows\, singers & dancers. Complimentary dessert bar at event completion.
X-ALT-DESC;FMTTYPE=text/html:40+ Vendors with products and services important to today&#39\;s seniors. In addition to the businesses represented at the show\, live entertainment by senior citizens is featured on stage. Acts include\; fashion shows\, singers &amp\; dancers. Complimentary dessert bar at event completion.
LOCATION:Dixie Center
UID:e.1117.5047
SEQUENCE:3
DTSTAMP:20260421T153958Z
URL:https://business.stgeorgechamber.com/events/details/senior-connection-expo-02-04-2014-5047
END:VEVENT

END:VCALENDAR
