BEGIN:VCALENDAR
VERSION:2.0
PRODID:-//ChamberMaster//Event Calendar 2.0//EN
METHOD:PUBLISH
X-PUBLISHED-TTL:P3D
REFRESH-INTERVAL:P3D
CALSCALE:GREGORIAN
BEGIN:VEVENT
DTSTART:20150703T023000Z
DTEND:20150705T090000Z
X-MICROSOFT-CDO-ALLDAYEVENT:FALSE
SUMMARY:Seasons Ultra Lounge
DESCRIPTION:High Rise with DJ Mikey VIP
X-ALT-DESC;FMTTYPE=text/html:High Rise with DJ Mikey VIP
LOCATION:Eureka Casino
UID:e.1117.6970
SEQUENCE:3
DTSTAMP:20260420T121106Z
URL:https://business.stgeorgechamber.com/events/details/seasons-ultra-lounge-07-02-2015-6970
END:VEVENT

END:VCALENDAR
