BEGIN:VCALENDAR
VERSION:2.0
PRODID:-//ChamberMaster//Event Calendar 2.0//EN
METHOD:PUBLISH
X-PUBLISHED-TTL:P3D
REFRESH-INTERVAL:P3D
CALSCALE:GREGORIAN
BEGIN:VEVENT
DTSTART:20140126T020000Z
DTEND:20140126T030000Z
X-MICROSOFT-CDO-ALLDAYEVENT:FALSE
SUMMARY:Seasons of Stories--Jump Back Honey Jump Back
DESCRIPTION:Don't miss Jump Back Honey Jump Back: A Journey through African\, Southern and African American Storytelling Traditions with Janice Brooks.  Diverse\, innovative and inspiring\, Janice Brooks is an exceptional Storyteller.\n\n	Brooks follows in the tradition of the African "griot" (storyteller) weaving history and culture to entertain and enlighten about the intricacies and wonders of life.   In this interactive performance\, the multi-talented Brooks uses movement\, sings\, and plays percussion instruments.  The blues singer\, praise poet\, and African griot\, all call out to the people in myth and metaphor.  African and African American stories have been told to send messages\, voice protest\, ease troubled hearts\, and instill virtue.
X-ALT-DESC;FMTTYPE=text/html:<p>\n	<span style="font-size:14px\;"><span style="font-family:arial\;">Don&rsquo\;t miss Jump Back Honey Jump Back: A Journey through African\, Southern and African American Storytelling Traditions with Janice Brooks. &nbsp\;Diverse\, innovative and inspiring\, Janice Brooks is an exceptional Storyteller.<br />\n	Brooks follows in the tradition of the African &ldquo\;griot&rdquo\; (storyteller) weaving history and culture to entertain and enlighten about the intricacies and wonders of life.&nbsp\;&nbsp\; In this interactive performance\, the multi-talented Brooks uses movement\, sings\, and plays percussion instruments. &nbsp\;The blues singer\, praise poet\, and African griot\, all call out to the people in myth and metaphor.&nbsp\; African and African American stories have been told to send messages\, voice protest\, ease troubled hearts\, and instill virtue.</span></span></p>\n
LOCATION:Pioneer Opera House 200 North Main
UID:e.1117.5042
SEQUENCE:3
DTSTAMP:20260421T154646Z
URL:https://business.stgeorgechamber.com/events/details/seasons-of-stories-jump-back-honey-jump-back-01-25-2014-5042
END:VEVENT

END:VCALENDAR
