BEGIN:VCALENDAR
VERSION:2.0
PRODID:-//ChamberMaster//Event Calendar 2.0//EN
METHOD:PUBLISH
X-PUBLISHED-TTL:P3D
REFRESH-INTERVAL:P3D
CALSCALE:GREGORIAN
BEGIN:VEVENT
DTSTART:20131215T020000Z
DTEND:20131215T030000Z
X-MICROSOFT-CDO-ALLDAYEVENT:FALSE
SUMMARY:Seasons of Stories--Christmas Memories
DESCRIPTION:Come enjoy a heartwarming evening of Christmas memories and stories with Master Storyteller\, Nannette Watts. Energetic\, high-strung\, full of life\, funny\, graceful\, animated\, spunky\, are words people are using to describe Nannette Watts' storytelling.\n\n \n\nNannette masterfully blends movement and voice to create animated characters in her storytelling. You may have seen her as a featured teller at the Timpanogos Storytelling Festival\, Weber State Festival\, Blanding Winter\, Vernal\, Zion\, and Snake River Storytelling Festivals\, or in Libraries and schools. She has been billed as very energetic and fun to watch!\n\n \n\nNannette  has been a professional storyteller for over a decade. Growing up\, her family life was immersed in stories and storytelling. She holds a BFA in Music Dance Theatre. Nannette is a member of the Utah Storytelling Guild\, Timp Tellers Chapter. She has presented workshops on storytelling from local to national venues. Nannette is a co-founder and the artistic director for Resonance Story Theatre. She is a Stories Unlimited instructor focused on teaching the art of storytelling to all ages.\n\n \n\nSeason of Stories 2013-14 is a series of presentations at the St. George Opera House. Presented in conjunction with the Dixie Tellers   a chapter of the Utah Storytelling Guild.
X-ALT-DESC;FMTTYPE=text/html:Come enjoy a heartwarming evening of Christmas memories and stories with Master Storyteller\, Nannette Watts. Energetic\, high-strung\, full of life\, funny\, graceful\, animated\, spunky\, are words people are using to describe Nannette Watts&rsquo\; storytelling.<br />\n&nbsp\;<br />\nNannette masterfully blends movement and voice to create animated characters in her storytelling. You may have seen her as a featured teller at the Timpanogos Storytelling Festival\, Weber State Festival\, Blanding Winter\, Vernal\, Zion\, and Snake River Storytelling Festivals\, or in Libraries and schools. She has been billed as very energetic and fun to watch!<br />\n&nbsp\;<br />\nNannette&nbsp\; has been a professional storyteller for over a decade. Growing up\, her family life was immersed in stories and storytelling. She holds a BFA in Music Dance Theatre. Nannette is a member of the Utah Storytelling Guild\, Timp Tellers Chapter. She has presented workshops on storytelling from local to national venues. Nannette is a co-founder and the artistic director for Resonance Story Theatre. She is a Stories Unlimited instructor focused on teaching the art of storytelling to all ages.<br />\n&nbsp\;<br />\nSeason of Stories 2013-14 is a series of presentations at the St. George Opera House. Presented in conjunction with the Dixie Tellers &ndash\; a chapter of the Utah Storytelling Guild.&nbsp\;<br />\n
LOCATION:Pioneer Opera House 200 North Main
UID:e.1117.4987
SEQUENCE:3
DTSTAMP:20260421T171832Z
URL:https://business.stgeorgechamber.com/events/details/seasons-of-stories-christmas-memories-12-14-2013-4987
END:VEVENT

END:VCALENDAR
