BEGIN:VCALENDAR
VERSION:2.0
PRODID:-//ChamberMaster//Event Calendar 2.0//EN
METHOD:PUBLISH
X-PUBLISHED-TTL:P3D
REFRESH-INTERVAL:P3D
CALSCALE:GREGORIAN
BEGIN:VEVENT
DTSTART:20140427T010000Z
DTEND:20140427T020000Z
X-MICROSOFT-CDO-ALLDAYEVENT:FALSE
SUMMARY:Seasons of Stories
DESCRIPTION:Bring your families and friends and join us for Spring Stories with members of the Utah Storytelling Guild.\n\n \n\nStory: the very mention of the word jogs our memories of a favorite tale and transports us to another time or place.  Professional Storytellers from all over the state of Utah will delight us as they weave their stories and draw us in.  Storytellers include: Wayne Kartchner\, Gary Hansen\, Bob Aders\, Stephen and Teresa Gashier\, and Tom Carter.\n\n \n\nSeason of Stories 2013-14 is a series of presentations at the St. George Opera House. Presented in conjunction with the Dixie Tellers   a chapter of the Utah Storytelling Guild.
X-ALT-DESC;FMTTYPE=text/html:<p>Bring your families and friends and join us for Spring Stories with members of the Utah Storytelling Guild.<br />\n&nbsp\;<br />\nStory: the very mention of the word jogs our memories of a favorite tale and transports us to another time or place.&nbsp\; Professional Storytellers from all over the state of Utah will delight us as they weave their stories and draw us in.&nbsp\; Storytellers include: Wayne Kartchner\, Gary Hansen\, Bob Aders\, Stephen and Teresa Gashier\, and Tom Carter.<br />\n&nbsp\;<br />\nSeason of Stories 2013-14 is a series of presentations at the St. George Opera House. Presented in conjunction with the Dixie Tellers &ndash\; a chapter of the Utah Storytelling Guild.&nbsp\;</p>\n
LOCATION:Social Hall 200 North Main St. George
UID:e.1117.5209
SEQUENCE:3
DTSTAMP:20260421T125853Z
URL:https://business.stgeorgechamber.com/events/details/seasons-of-stories-04-26-2014-5209
END:VEVENT

END:VCALENDAR
