BEGIN:VCALENDAR
VERSION:2.0
PRODID:-//ChamberMaster//Event Calendar 2.0//EN
METHOD:PUBLISH
X-PUBLISHED-TTL:P3D
REFRESH-INTERVAL:P3D
CALSCALE:GREGORIAN
BEGIN:VEVENT
DTSTART:20140323T010000Z
DTEND:20140323T020000Z
X-MICROSOFT-CDO-ALLDAYEVENT:FALSE
SUMMARY:Seasons of Stories
DESCRIPTION:Don't miss An Evening of Poetry with Utah State Poet Laureate\, Lance Larsen.\n\n \n\nLance Larsen's fourth collection of poems\, Genius Loci\, was recently published by University of Tampa Press.  His earlier collections include Backyard Alchemy (2009)\, In All Their Animal Brilliance (2005)\, and Erasable Walls (1998).  He holds a PhD from the University of Houston.  His work appears widely\, in such venues as Georgia Review\, Southern Review\, Ploughshares\, Poetry\, River Styx\, Orion\, The Pushcart Prize Anthology\, Best American Poetry 2009\, Poetry Daily\, and elsewhere.  His nonfiction has twice made the Notable Essay list in Best American Essays.  He is currently working on Seventeen Ways to Float\, a collection of essays about place\, family\, and memory which won 1st place in the 2011 Utah Original Writing Competition. \n\n \n\nLance grew up in Idaho and Colorado and lived in Chile for two years while serving an LDS mission.  He collects antiques\, plays basketball\, occasionally walks on his hands\, grows daylilies\, hikes\, and loves Indian and Thai food.  He sometimes collaborates with his wife\, Jacqui Biggs Larsen\, a painter and multi-media artist.  Since 1993 he has taught literature and creative writing at BYU\, where he currently serves as associate chair.  He and Jacqui recently directed a study abroad program in Madrid.  In 2012\, he was named to a five-year term as Utah Poet Laureate.\n\n \n\nSeason of Stories 2013-14 is a series of presentations at the St. George Opera House. Presented in conjunction with the Dixie Tellers   a chapter of the Utah Storytelling Guild.
X-ALT-DESC;FMTTYPE=text/html:<p><span style="font-size:14px\;">Don&rsquo\;t miss An Evening of Poetry with Utah State Poet Laureate\, Lance Larsen.<br />\n&nbsp\;<br />\nLance Larsen&rsquo\;s fourth collection of poems\, Genius Loci\, was recently published by University of Tampa Press.&nbsp\; His earlier collections include Backyard Alchemy (2009)\, In All Their Animal Brilliance (2005)\, and Erasable Walls (1998).&nbsp\; He holds a PhD from the University of Houston.&nbsp\; His work appears widely\, in such venues as Georgia Review\, Southern Review\, Ploughshares\, Poetry\, River Styx\, Orion\, The Pushcart Prize Anthology\, Best American Poetry 2009\, Poetry Daily\, and elsewhere.&nbsp\; His nonfiction has twice made the Notable Essay list in Best American Essays.&nbsp\; He is currently working on Seventeen Ways to Float\, a collection of essays about place\, family\, and memory which won 1st place in the 2011 Utah Original Writing Competition.&nbsp\;<br />\n&nbsp\;<br />\nLance grew up in Idaho and Colorado and lived in Chile for two years while serving an LDS mission.&nbsp\; He collects antiques\, plays basketball\, occasionally walks on his hands\, grows daylilies\, hikes\, and loves Indian and Thai food.&nbsp\; He sometimes collaborates with his wife\, Jacqui Biggs Larsen\, a painter and multi-media artist.&nbsp\; Since 1993 he has taught literature and creative writing at BYU\, where he currently serves as associate chair.&nbsp\; He and Jacqui recently directed a study abroad program in Madrid.&nbsp\; In 2012\, he was named to a five-year term as Utah Poet Laureate.<br />\n&nbsp\;<br />\nSeason of Stories 2013-14 is a series of presentations at the St. George Opera House. Presented in conjunction with the Dixie Tellers &ndash\; a chapter of the Utah Storytelling Guild.&nbsp\;</span></p>\n
LOCATION:Pioneer Opera House 200 North Main
UID:e.1117.5117
SEQUENCE:3
DTSTAMP:20260421T125912Z
URL:https://business.stgeorgechamber.com/events/details/seasons-of-stories-03-22-2014-5117
END:VEVENT

END:VCALENDAR
