BEGIN:VCALENDAR
VERSION:2.0
PRODID:-//ChamberMaster//Event Calendar 2.0//EN
METHOD:PUBLISH
X-PUBLISHED-TTL:P3D
REFRESH-INTERVAL:P3D
CALSCALE:GREGORIAN
BEGIN:VEVENT
DTSTART:20160211T215000Z
DTEND:20160212T013000Z
X-MICROSOFT-CDO-ALLDAYEVENT:FALSE
SUMMARY:Schwab Online Trading Event
DESCRIPTION:Live\, online event to learn from and interact with featured guests to help grow your trading knowledge\n\nAgenda is as follows:\n\n\n\n3:00-4:00pm  Quick Fire Q&A Panel - Randy Frederick\, Manager of Trading & Derivatives\, Schwab \;Jeffrey Abalos\, Trading Solutions Regional Manager\, Schwab\; Todd Rosenbluth\, S&P Capital\n\n4:15-5:15pm  Stock Market Manias & Crashes - Lou Mercer\, Trading Solutions Regional Manager\, Schwab\n\n5:30-6:30pm  A Conversation with Christina Romer - Professor of Economics at University of California-Berkeley
X-ALT-DESC;FMTTYPE=text/html:Live\, online event to learn from and interact with featured guests to help grow your trading knowledge<br />\nAgenda is as follows:<br />\n<br />\n3:00-4:00pm&nbsp\; Quick Fire Q&amp\;A Panel - Randy Frederick\, Manager of Trading &amp\; Derivatives\, Schwab \;Jeffrey Abalos\, Trading Solutions Regional Manager\, Schwab\; Todd Rosenbluth\, S&amp\;P Capital<br />\n4:15-5:15pm&nbsp\; Stock Market Manias &amp\; Crashes - Lou Mercer\, Trading Solutions Regional Manager\, Schwab<br />\n5:30-6:30pm&nbsp\; A Conversation with Christina Romer - Professor of Economics at University of California-Berkeley
LOCATION:St George Branch\, 15 South River Road\, Ste 130
UID:e.1117.8441
SEQUENCE:3
DTSTAMP:20260419T234254Z
URL:https://business.stgeorgechamber.com/events/details/schwab-online-trading-event-02-11-2016-8441
END:VEVENT

END:VCALENDAR
