BEGIN:VCALENDAR
VERSION:2.0
PRODID:-//ChamberMaster//Event Calendar 2.0//EN
METHOD:PUBLISH
X-PUBLISHED-TTL:P3D
REFRESH-INTERVAL:P3D
CALSCALE:GREGORIAN
BEGIN:VEVENT
DTSTART:20150307T140000Z
DTEND:20150307T180000Z
X-MICROSOFT-CDO-ALLDAYEVENT:FALSE
SUMMARY:Saturday Morning Guided Hike
DESCRIPTION:Venture into the stunning outback that surrounds St. George\, Utah on a guided half day hiking tour (4-5 hours). Scheduled hiking tours begin at the St. George Adventure Hub on Saturday mornings (Spring and Fall months). From the Adventure Hub you'll be transported via van to and from the trail-head. Your guide is a local expert who is also specially trained as a Wilderness First Responder (WFR)?. As you travel together you'll learn about the history\, geology\, and biology of this region. You'll enjoy being with a guide who knows the trail well and can answer your questions. You'll also make new friends on this group shared experience.
X-ALT-DESC;FMTTYPE=text/html:Venture into the stunning outback that surrounds St. George\, Utah on a guided half day hiking tour (4-5 hours). Scheduled hiking tours begin at the St. George Adventure Hub on Saturday mornings (Spring and Fall months). From the Adventure Hub you&#39\;ll be transported via van to and from the trail-head. Your guide is a local expert who is also specially trained as a Wilderness First Responder (WFR)?. As you travel together you&#39\;ll learn about the history\, geology\, and biology of this region. You&#39\;ll enjoy being with a guide who knows the trail well and can answer your questions. You&#39\;ll also make new friends on this group shared experience.
LOCATION:Meet at Adventure Hub 128 N 100 W #124 St. George\, UT 84770
UID:e.1117.6342
SEQUENCE:3
DTSTAMP:20260420T190703Z
URL:https://business.stgeorgechamber.com/events/details/saturday-morning-guided-hike-03-07-2015-6342
END:VEVENT

END:VCALENDAR
